BEGIN:VCALENDAR
VERSION:2.0
PRODID:-//Sabre//Sabre VObject 4.5.8//EN
CALSCALE:GREGORIAN
BEGIN:VEVENT
UID:sabre-vobject-93721d82-02d8-4d22-8ece-f7ba29a5f327
DTSTAMP:20260425T021603Z
SUMMARY:Bäume fällen\, Dämme bauen\, Burgen graben: 60 Jahre Biber im Th
 urgau
DESCRIPTION:Am 12. November 1966 wurden in der damaligen Munizipalgemeinde 
 Scherzingen die ersten Biber in der Ostschweiz ausgesetzt. Ein Pionierproj
 ekt\, an dem Wolf-Dieter Burkhard selbst beteiligt war. In seinem reich be
 bilderten Vortrag berichtet er aus erster Hand über die Herausforderungen
  und Erfolge der Wiederansiedlung dieser faszinierenden Tiere. Ein besonde
 rer Fokus liegt auf ihrer Lebensweise und ihrem Beitrag zur Biodiversität
 .\nParkplatz: Spitalcampus
LOCATION:Katholisches Begegnungszentrum\, 8596 Münsterlingen
DTSTART;TZID=Europe/Zurich:20261112T190000
DTEND;TZID=Europe/Zurich:20261112T203000
ORGANIZER:Kultur- und Naturführungen Münsterlingen
END:VEVENT
END:VCALENDAR
