BEGIN:VCALENDAR
VERSION:2.0
PRODID:-//Sabre//Sabre VObject 4.5.8//EN
CALSCALE:GREGORIAN
BEGIN:VEVENT
UID:sabre-vobject-d7516229-d13d-410d-ba32-63eed7f8cd28
DTSTAMP:20260421T064739Z
SUMMARY:Liebes Mädchen\, hör mir zu!
DESCRIPTION:Angela Kerrison\, Sopran\\nMirjam Tschopp\, Violine &amp\; Viol
 a\\nSusanna Soffiantini\, Orgel \nWerke von Pejačević\, Halvorsen\, Hay
 dn\, Leonarda\, Mägi\, Mohr\, Muffat\, Radulescu\, Robert und Clara Schum
 ann.\nIn diesem Programm werden unter anderem Werke von Komponistinnen aus
  dem Barock bis zur Gegenwart\, die sich mit dem Thema Frau auseinanderset
 zen\, einander gegenübergestellt.\nDie Nonne Isabella Leonarda ging gerne
  eigenwillige Wege. Ihre glanzvolle Sonate ist die erste von einer Frau ve
 röffentlichte Instrumentalkomposition. Dora Pejačević\, kroatische Adel
 stochter\, verkehrte mit bedeutenden Künstlern ihrer Zeit und schuf beein
 druckende Musik\, die stets orchestral gedacht ist.\nGanz anders verwendet
 e Ester Mägi\, die Grande Dame der estnischen Musik\, für ihr wirkungsvo
 lles Werk einfachste Mittel. In seinem Ecce Virgo schafft Michael Radulesc
 u faszinierende Klangwelten\, indem er eine der mittelalterlichen Ars Nova
  ähnliche Singstimme der räumlich klingenden Orgel entgegensetzt.\nViele
  von Haydns Kunstliedern drehen sich um die Liebe zu Frauen\, ähnlich wie
  die Bauerntänze des norwegischen Virtuosen Johan Halvorsen. In seiner br
 illanten Toccata zeigt Georg Muffat schliesslich die Orgel als wahrhaftige
  Königin der Instrumente.
LOCATION:Kloster Fischingen\, Kirche\, 8376 Fischingen
DTSTART;TZID=Europe/Zurich:20260705T161500
DTEND;TZID=Europe/Zurich:20260705T173000
ORGANIZER:Kultur Kloster Fischingen
END:VEVENT
END:VCALENDAR
