BEGIN:VCALENDAR
VERSION:2.0
PRODID:-//Sabre//Sabre VObject 4.5.8//EN
CALSCALE:GREGORIAN
BEGIN:VEVENT
UID:sabre-vobject-e07d2de1-89ea-4dba-902a-4c817b67fb2c
DTSTAMP:20260421T045057Z
SUMMARY:Trio Artemis & Friends
DESCRIPTION:Back to the roots\nKatja Hess\, Violine\\nBettina Macher\, Viol
 oncello\\nMyriam Ruesch\, Klavier\nGäste:\\nEnrico Lenzin\, Percussion un
 d Alphorn\\nMarcelo Nisinman\, Bandoneon\nOb Kammermusik\, Schweizer Volks
 lieder\, Tango Nuevo\, Folk oder Jazz - die drei Musikerinnen scheuen nich
 t davor zurück\, neue Genres zu erproben und zu entdecken. Heimatliches w
 ird kunstvoll aufbereitet und Klassisches neu interpretiert. Im Jubiläums
 programm vereint das Ensemble Tango und Klassik zu einem aussergewöhnlich
 en Musikerlebnis.\nMit dem Wunsch\, Traditionelles und Zeitgenössisches z
 u verschmelzen\, steht die Schweiz im Zentrum dieses besonderen Jubiläums
 . Alle Stücke sind auf die eine oder andere Weise mit der Schweiz verbund
 en. Durch die Erweiterung des Repertoires um Schweizer Volksliedgut wird e
 in wichtiger musikalischer Grundstein gelegt.\nDoch auch die beiden hervor
 ragenden Gastmusiker Enrico Lenzin und Marcelo Nisinman sprengen den kamme
 rmusikalischen Rahmen des Trios und eröffnen ganz neue\, vielseitige Dime
 nsionen.\nDas Trio Artemis feiert in seinem Jubiläumsprogramm die musikal
 ische Vielfalt - lebendig und spritzig. Mit «Back to the Roots» wurde da
 s achte Studioalbum des Trios vom Schweizer Verlag Gallo 2025 produziert u
 nd veröffentlicht.
LOCATION:Kloster Fischingen\, Bibliothek\, 8376 Fischingen
DTSTART;TZID=Europe/Zurich:20260510T161500
DTEND;TZID=Europe/Zurich:20260510T173000
ORGANIZER:Kultur Kloster Fischingen
END:VEVENT
END:VCALENDAR
