BEGIN:VCALENDAR
VERSION:2.0
PRODID:-//Sabre//Sabre VObject 4.5.8//EN
CALSCALE:GREGORIAN
BEGIN:VEVENT
UID:sabre-vobject-1a3db604-a4cf-41f8-8dc2-8c893cb58592
DTSTAMP:20260420T230454Z
SUMMARY:Schlossparkführung\, eine zauberhafte Entdeckungsreise
DESCRIPTION:Eine Himmelsleiter führt von der Kapelle zu einer Landschaft a
 us Fontänen\, Grotten\, Eremitage und Eiskeller mit herrlicher Sicht auf 
 den Untersee. Ursprünglich ein Renaissance-Garten mit geometrischen Forme
 n\, heute ein Landschaftspark aus dem 19. Jahrhundert mit Einbauten und be
 eindruckenden Pflanzen.
LOCATION:Napoleonmuseum Arenenberg\, Arenenberg 1\, 8268 Salenstein
DTSTART;TZID=Europe/Zurich:20260524T120000
DTEND;TZID=Europe/Zurich:20260524T130000
ORGANIZER:Napoleonmuseum Arenenberg
END:VEVENT
END:VCALENDAR
