BEGIN:VCALENDAR
VERSION:2.0
PRODID:-//Sabre//Sabre VObject 4.5.8//EN
CALSCALE:GREGORIAN
BEGIN:VEVENT
UID:sabre-vobject-42a333ec-4c19-4100-80d7-b5c5663d0fb2
DTSTAMP:20260420T230347Z
SUMMARY:Schlossparkführung\, eine zauberhafte Entdeckungsreise
DESCRIPTION:Eine Himmelsleiter führt von der Kapelle zu einer Landschaft a
 us Fontänen\, Grotten\, Eremitage und Eiskeller mit herrlicher Sicht auf 
 den Untersee. Ursprünglich ein Renaissance-Garten mit geometrischen Forme
 n\, heute ein Landschaftspark aus dem 19. Jahrhundert mit Einbauten und be
 eindruckenden Pflanzen.
LOCATION:Napoleonmuseum Arenenberg\, Arenenberg 1\, 8268 Salenstein
DTSTART;TZID=Europe/Zurich:20260712T120000
DTEND;TZID=Europe/Zurich:20260712T130000
ORGANIZER:Napoleonmuseum Arenenberg
END:VEVENT
END:VCALENDAR
