BEGIN:VCALENDAR
VERSION:2.0
PRODID:-//Sabre//Sabre VObject 4.5.8//EN
CALSCALE:GREGORIAN
BEGIN:VEVENT
UID:sabre-vobject-259d7cd3-48e2-4bb7-bcc8-a6716ce56572
DTSTAMP:20260421T064553Z
SUMMARY:Kurzwanderung mit Köbi Hug
DESCRIPTION:
LOCATION:Kloster Fischingen\, Hauptstrasse\, 8376 Fischingen
DTSTART;TZID=Europe/Zurich:20260426T140000
DTEND;TZID=Europe/Zurich:20260426T140000
ORGANIZER:Kultur Kloster Fischingen
END:VEVENT
END:VCALENDAR
