BEGIN:VCALENDAR
VERSION:2.0
PRODID:-//Sabre//Sabre VObject 4.5.8//EN
CALSCALE:GREGORIAN
BEGIN:VEVENT
UID:sabre-vobject-de32dc3d-fc13-4154-b7ef-708c7fa56f87
DTSTAMP:20260421T064553Z
SUMMARY:Kurzwanderung mit Köbi Hug
DESCRIPTION:
LOCATION:Kloster Fischingen\, Hauptstrasse\, 8376 Fischingen
DTSTART;TZID=Europe/Zurich:20261018T140000
DTEND;TZID=Europe/Zurich:20261018T140000
ORGANIZER:Kultur Kloster Fischingen
END:VEVENT
END:VCALENDAR
