BEGIN:VCALENDAR
VERSION:2.0
PRODID:-//Sabre//Sabre VObject 4.5.8//EN
CALSCALE:GREGORIAN
BEGIN:VEVENT
UID:sabre-vobject-9bd30ad4-718d-4dd0-9301-ad44c14b1fea
DTSTAMP:20260421T064654Z
SUMMARY:Orgelspaziergang
DESCRIPTION:
LOCATION:Kloster Fischingen\, Kirche\, 8376 Fischingen
DTSTART;TZID=Europe/Zurich:20260913T143000
DTEND;TZID=Europe/Zurich:20260913T153000
ORGANIZER:Kultur Kloster Fischingen
END:VEVENT
END:VCALENDAR
