BEGIN:VCALENDAR
VERSION:2.0
PRODID:-//Sabre//Sabre VObject 4.5.8//EN
CALSCALE:GREGORIAN
BEGIN:VEVENT
UID:sabre-vobject-69f307df-8871-4477-89bd-5b59dd00cc8f
DTSTAMP:20260421T064553Z
SUMMARY:Orgelspaziergang
DESCRIPTION:
LOCATION:Kloster Fischingen\, Kirche\, 8376 Fischingen
DTSTART;TZID=Europe/Zurich:20261115T143000
DTEND;TZID=Europe/Zurich:20261115T153000
ORGANIZER:Kultur Kloster Fischingen
END:VEVENT
END:VCALENDAR
