BEGIN:VCALENDAR
VERSION:2.0
PRODID:-//Sabre//Sabre VObject 4.5.8//EN
CALSCALE:GREGORIAN
BEGIN:VEVENT
UID:sabre-vobject-d5332f34-9bae-4685-b762-f0d31406f27d
DTSTAMP:20260421T064718Z
SUMMARY:Die Legende der heiligen Idda
DESCRIPTION:
LOCATION:Kloster Fischingen\, Kirche\, 8376 Fischingen
DTSTART;TZID=Europe/Zurich:20261025T143000
DTEND;TZID=Europe/Zurich:20261025T153000
ORGANIZER:Kultur Kloster Fischingen
END:VEVENT
END:VCALENDAR
