BEGIN:VCALENDAR
VERSION:2.0
PRODID:-//Sabre//Sabre VObject 4.5.8//EN
CALSCALE:GREGORIAN
BEGIN:VEVENT
UID:sabre-vobject-62d5a6b0-059b-4d31-a14c-f08fdf77cb9c
DTSTAMP:20260421T064552Z
SUMMARY:Salonorchester Odeon und Andreas Winkler\, Sänger
DESCRIPTION:Wien\, Wien\, nur Du allein.\nWerke von Strauss\, Kalman\, Stol
 z und weitere\nNina Ulli\, Primgeige / Ivona Krapikaite\, Violine / Julien
  Kilchenmann\, Cello / Graziella Nibali\, Querflöte /\nMartin Sonderegger
 \, Klarinette / André Desponds\, Klavier / Tashko Tasheff\, Kontrabass\nD
 as abwechslungsreiche Programm bietet eine Auswahl klassischer Wiener Melo
 dien\, darunter die bekannten Walzer von Johann Strauss\, berührende Oper
 ettenmelodien sowie beliebte Wienerlieder\, die die österreichische Kultu
 r widerspiegeln.\nErgänzt wird das Programm durch mitreissende osteuropä
 ische Tänze\, die für eine lebendige und temperamentvolle Atmosphäre so
 rgen. Das Salonorchester tritt gemeinsam mit dem renommierten Sänger Andr
 eas Winkler auf. Er war viele Jahre als Solist am Opernhaus Zürich tätig
 . Mit seinem charmanten und ausdrucksstarken Gesang führt er das Publikum
  gekonnt durch das unterhaltsame Programm.\nDie Musikerinnen und Musiker d
 es Salonorchesters sind klassisch ausgebildet und spielen seit Jahren mit 
 Leidenschaft Konzerte. Durch die Besetzung mit Bläsern\, Streichern und K
 lavier entsteht ein einzigartiger\, warmer Klang\, der das Publikum direkt
  nach Wien entführt.\n 
LOCATION:Kloster Fischingen\, Bibliothek\, 8376 Fischingen
DTSTART;TZID=Europe/Zurich:20261231T173000
DTEND;TZID=Europe/Zurich:20261231T184500
ORGANIZER:Kultur Kloster Fischingen
END:VEVENT
END:VCALENDAR
