BEGIN:VCALENDAR
VERSION:2.0
PRODID:-//Sabre//Sabre VObject 4.5.8//EN
CALSCALE:GREGORIAN
BEGIN:VEVENT
UID:sabre-vobject-65715e10-8c15-4322-a573-5945afb28b71
DTSTAMP:20260421T045057Z
SUMMARY:Zurich Chamber Singers
DESCRIPTION:Französische Weihnachtsmusik a cappella.\nWerke von Francis Po
 ulenc\, Pierre Villette und Olivier Messiaen\\nChristian Erny\, Leitung\nD
 ie 18 jungen Sängerinnen und Sänger widmen sich unter der Leitung von Ch
 ristian Erny dem französischen Motettenschaffen des 20. Jahrhunderts – 
 ein musikalischer Schatz von überwältigender Farbigkeit. Wir begegnen dr
 ei seiner bedeutendsten Stimmen: Francis Poulenc\, Pierre Villette und Oli
 vier Messiaen.\nIhre meisterhaft gearbeiteten Motetten verbinden innige Sa
 kralität mit leuchtender Klangpracht und laden zur stillen Besinnung sowi
 e zum festlichen Aufblühen ein. Dazwischen erklingen traditionelle franz
 ösische Noëls: anrührende und eingängige Strophenlieder\, die in berü
 hrender Schlichtheit die Weihnachtsgeschichte erzählen. So entfaltet sich
  ein vielseitiges musikalisches Gewebe\, das reich an Ausdruck und Atmosph
 äre ist.\nEs schenkt der Zuhörerin und dem Zuhörer sowohl Momente der E
 inkehr als auch strahlende Festlichkeit.
LOCATION:Kloster Fischingen\, Kirche\, 8376 Fischingen
DTSTART;TZID=Europe/Zurich:20261206T161500
DTEND;TZID=Europe/Zurich:20261206T173000
ORGANIZER:Kultur Kloster Fischingen
END:VEVENT
END:VCALENDAR
