BEGIN:VCALENDAR
VERSION:2.0
PRODID:-//Sabre//Sabre VObject 4.5.8//EN
CALSCALE:GREGORIAN
BEGIN:VEVENT
UID:sabre-vobject-915ed854-c9c1-4455-8e43-36bb4b197ae6
DTSTAMP:20260421T064553Z
SUMMARY:Basler Streichquartett
DESCRIPTION:Cantabile\nWerke von Schostakowitsch\, Mozart\, Tschaikowski\nS
 usanne Mathé\, Violine / Hyunjong Reents-Kang\, Violine / Teodor Dimitrov
 \, Viola / \nAlexandre Foster\, Violoncello\nEines seiner Vorbilder war M
 ozarts Streichquartett KV 589\, das kurz vor dessen Tod entstand. Die Cell
 osoli darin klingen wie Tenor-Arien und begeisterten damals nicht nur den 
 König. Die von Schostakowitsch komponierten „Two Pieces for String Quar
 tet“ sind hingegen selten zu hören.\nDas erste Stück\, die Elegy\, ist
  eine zarte Transkription von Katerina Ismailowas Arie aus „Lady Macbeth
  von Mzensk“. Das zweite Stück ist eine Streicherfassung der Polka aus 
 „Das Goldene Zeitalter“.\nTschaikowskis drittes Streichquartett ist ei
 n Werk der seelischen Abgründe. Er schrieb es zum Andenken an seinen Freu
 nd und Geiger Ferdinand Laub. Mit Bezeichnungen wie funebre und doloroso s
 owie Anklängen an die Totenmesse der russisch-orthodoxen Kirche trägt es
  den Charakter eines Trauergesangs.\n \nKostenloser Orgelspaziergang - In
 teressierte besuchen alle vier Orgeln in der Klosterkirche und werden mit 
 Klanghäppchen verwöhnt. Der Spaziergang beginnt um 14.30 Uhr beim Haupte
 ingang der Kirche und dauert rund eine Stunde. Eine Anmeldung ist nicht er
 forderlich.
LOCATION:Kloster Fischingen\, Bibliothek\, 8376 Fischingen
DTSTART;TZID=Europe/Zurich:20261115T161500
DTEND;TZID=Europe/Zurich:20261115T173000
ORGANIZER:Kultur Kloster Fischingen
END:VEVENT
END:VCALENDAR
