BEGIN:VCALENDAR
VERSION:2.0
PRODID:-//Sabre//Sabre VObject 4.5.8//EN
CALSCALE:GREGORIAN
BEGIN:VEVENT
UID:sabre-vobject-b6cee6d1-971f-4503-a0ba-aa65cba0c83b
DTSTAMP:20260421T064718Z
SUMMARY:Duo Resonance
DESCRIPTION:Larmes &amp\; Rires - Magie der Klangfarben\nWerke von Andrès\
 , Tedeschi\, Verdalle\, Huber\, Bignone\, Piazzolla\nEva Maria Hux\, Cello
  / Julia Kreyenbühl-Gschwend\, Harfe\nDuo Resonance präsentiert in seine
 m Programm Larmes &amp\; Rires eine faszinierend abwechslungsreiche Klangp
 alette. Mal impressionistisch-flüchtig skizziert\, mal in dramatische ita
 lienische Opernpassion ausartend\, mal Herbstlandschaften\, Wirbelstürme\
 , Wellengänge oder Illusionen von Alphorn\, Didgeridoo\, Gelächter und F
 lötentönen heraufbeschwörend – dann wieder ungehemmt romantisch und v
 irtuos.\nDas Duo spielt Originalkompositionen und Arrangements von Werken\
 , die ursprünglich für andere Instrumente geschrieben wurden\, aber zu s
 chön sind\, um nicht auch mit Cello und Harfe interpretiert zu werden. Es
  erklingen unter anderem Georg Walter Hubers Fantasie op. 13\, Bernard And
 rès Chants d’arrière-saison\, Luigi Maurizio Tedeschis Elegia op. 22\,
  Gabriel Verdalles Larmes et rires\, Maurizio Bignones Respiro und Astor P
 iazzollas Vuelvo al Sur.\nDas Duo präsentiert klassische Musik\, die auch
  mal mit Genres wie Tango\, Filmmusik\, Klezmer und Schlager liebäugelt 
 – aber stets mit Eleganz\, Formbewusstsein und einer wohl dosierten Port
 ion Drama. \n \nDas Grab der heiligen Idda ist für viele Ratsuchende ei
 n Zufluchtsort. Hier erhoffen sie sich Heilung\, Trost und Antworten auf i
 hre Fragen. Um 14.30 Uhr wird am Grab die Legende erzählt. Die Teilnahme 
 ist kostenlos und eine Anmeldung nicht erforderlich.
LOCATION:Kloster Fischingen\, Bibliothek\, 8376 Fischingen
DTSTART;TZID=Europe/Zurich:20261025T161500
DTEND;TZID=Europe/Zurich:20261025T171500
ORGANIZER:Kultur Kloster Fischingen
END:VEVENT
END:VCALENDAR
