BEGIN:VCALENDAR
VERSION:2.0
PRODID:-//Sabre//Sabre VObject 4.5.8//EN
CALSCALE:GREGORIAN
BEGIN:VEVENT
UID:sabre-vobject-e9ab7cab-00cb-4106-9065-c91d4860db80
DTSTAMP:20260421T024802Z
SUMMARY:Poetry Slam
DESCRIPTION:Marvin Suckut hat sie wieder eingeladen: Die besten Poetinnen u
 nd Poeten des Landes treffen in Konstanz aufeinander\, um in einem dichter
 ischen Wettstreit gegeneinander anzutreten. Dabei müssen sie sich nur an 
 drei einfache Regeln halten.\n1. Die Texte müssen selbst verfasst sein.\\
 n2. Es gibt ein Zeitlimit von 7 Minuten.\\n3. Es dürfen keine Hilfsmittel
 /Kostüme verwendet werden.\nDas Publikum entscheidet\, wer den Abend als 
 Sieger:in beendet.
LOCATION:Kulturladen Konstanz\, Joseph-Belli-Weg 5\, 78467 Konstanz
DTSTART;TZID=Europe/Zurich:20260610T200000
DTEND;TZID=Europe/Zurich:20260610T200000
ORGANIZER:Kulturladen Konstanz e. V.
END:VEVENT
END:VCALENDAR
