BEGIN:VCALENDAR
VERSION:2.0
PRODID:-//Sabre//Sabre VObject 4.5.8//EN
CALSCALE:GREGORIAN
BEGIN:VEVENT
UID:sabre-vobject-939f8798-57fc-4819-ad1b-50702bf87f18
DTSTAMP:20260421T010243Z
SUMMARY:Thomas D and The KBCS
DESCRIPTION:„Aus dem Studio direkt auf die Bühne. Ich kann nur so viel s
 agen: Wir werden eine neue und überraschende Platte auf die Bühne bringe
 n“\, verrät Thomas D voller Vorfreude. \\n\\nThomas D &amp\; The KBCS v
 erbindet eine besondere musikalische Partnerschaft\, die seit 2018 mit der
  Veröffentlichung des Albums „The M.A.R.S. Sessions“ stetig gewachsen
  ist. Neben seinem aktuellen Album MEGA D (dessen Tour 2025 stattfand) ver
 feinerten Thomas D und The KBCS ihre gemeinsame künstlerische Vision zule
 tzt mit den Alben „M.A.R.S. Sessions II“ und dem Live-Album „Little 
 Big Beat Studio Sessions“. Diese Alben haben eindrucksvoll unter Beweis 
 gestellt\, wie vielseitig und emotional ihre Musik sein kann. \\n\\nDie ko
 mmende Tournee wird diese musikalische Reise fortsetzen – mit Songs aus 
 den bisherigen Alben und brandneuem Material \, das live eine besondere En
 ergie entfaltet. „Es sind jedes Mal sehr emotionale Konzerte\, wenn Thom
 as D &amp\; The KBCS zusammenkommen“\, betont Thomas D.
LOCATION:Kulturzentrum Presswerk\, Hamelstrasse 15\, 9320 Arbon
DTSTART;TZID=Europe/Zurich:20261119T200000
DTEND;TZID=Europe/Zurich:20261119T200000
ORGANIZER:Kulturzentrum Presswerk AG
END:VEVENT
END:VCALENDAR
