BEGIN:VCALENDAR
VERSION:2.0
PRODID:-//Sabre//Sabre VObject 4.5.8//EN
CALSCALE:GREGORIAN
BEGIN:VEVENT
UID:sabre-vobject-1801bf41-5eac-47d3-bf7e-3203f27bf5a9
DTSTAMP:20260421T044003Z
SUMMARY:Fledermäuse unterm Museumsdach 
DESCRIPTION:Unter dem Dach des Museums Rosenegg lagern Sammlungsobjekte und
  Ausstellungsinventar\, abgedeckt mit grossen Folien zum Schutz vor den Hi
 nterlassenschaften kleiner geflügelter Gäste: Das Gebälk ist auch Quart
 ier für Fledermäuse. Normalerweise nicht zugänglich fürs Publikum\, l
 ädt das Museum zu einer Begehung des Estrichs ein.\nZuvor wird der bekann
 te Fledermausexperte Wolf-Dieter Burkhard aus seiner reichen Erfahrung und
  den zeitintensiven nächtlichen Forschungsarbeiten mit Radiotelemetrie be
 richten\, die zu neuen Erkenntnissen geführt haben.\nVor gut vierzig Jahr
 en gründete er zusammen mit seiner Frau Ursula die Thurgauische Koordinat
 ionsstelle für Fledermausschutz. Es ist ihnen gelungen\, zahlreiche Arten
  dieser nächtlichen Jägerinnen für den Thurgau nachzuweisen. Sie alle z
 eigen verschiedene Bedürfnisse und Verhaltensweisen. 
LOCATION:Museum Rosenegg\, Bärenstrasse 6\, 8280 Kreuzlingen
DTSTART;TZID=Europe/Zurich:20261029T190000
DTEND;TZID=Europe/Zurich:20261029T190000
ORGANIZER:Museum Rosenegg
END:VEVENT
END:VCALENDAR
