BEGIN:VCALENDAR
VERSION:2.0
PRODID:-//Sabre//Sabre VObject 4.5.8//EN
CALSCALE:GREGORIAN
BEGIN:VEVENT
UID:sabre-vobject-43ec83c2-7372-410b-9efb-6d7821e21aec
DTSTAMP:20260421T044004Z
SUMMARY:Konzert: Jodel-Serenade 
DESCRIPTION:Im Hof des Museums Rosenegg bietet die Jodelgruppe «klancanto
 » zum Abschluss der Saison eine breite Palette an Werken\, vom alten übe
 rlieferten Jodellied bis hin zu aktuellen Neukompositionen. Auch Schlager\
 , Mundartsongs und populäre Melodien stehen auf dem Programm.\nDie Jodel-
 Serenade ist die letzte Gelegenheit\, die Nachfolgeformation der Jodelfami
 lie Rüegge aus Güttingen noch einmal zu erleben\, bevor sich die Gruppe
  auflösen wird.\nIm Anschluss ist die Museumsbar geöffnet. Bei schlechte
 r Witterung findet das Konzert im Stucksaal statt. 
LOCATION:Museum Rosenegg\, Bärenstrasse 6\, 8280 Kreuzlingen
DTSTART;TZID=Europe/Zurich:20260619T190000
DTEND;TZID=Europe/Zurich:20260619T190000
ORGANIZER:Museum Rosenegg
END:VEVENT
END:VCALENDAR
