BEGIN:VCALENDAR
VERSION:2.0
PRODID:-//Sabre//Sabre VObject 4.5.8//EN
CALSCALE:GREGORIAN
BEGIN:VEVENT
UID:sabre-vobject-fed8e184-6849-4ece-a493-abacef05c53a
DTSTAMP:20260425T000506Z
SUMMARY:Interpretationskurs Orgel
DESCRIPTION:Der Interpretationskurs ist öffentlich\; Zuhörerinnen und Zuh
 örer sind herzlich willkommen.
LOCATION:Katholische Stadtkirche St. Nikolaus\, Kirchgasse 27\, 9500 Wil
DTSTART;TZID=Europe/Zurich:20261116T100000
DTEND;TZID=Europe/Zurich:20261116T180000
ORGANIZER:toccatawil
END:VEVENT
END:VCALENDAR
