BEGIN:VCALENDAR
VERSION:2.0
PRODID:-//Sabre//Sabre VObject 4.5.8//EN
CALSCALE:GREGORIAN
BEGIN:VEVENT
UID:sabre-vobject-0c5e0cdc-195d-4d13-9e11-c4e89af154ce
DTSTAMP:20260421T012610Z
SUMMARY:Inu-Oh
DESCRIPTION:Ein blinder Biwa-Spieler und ein entstellter Tänzer revolution
 ieren gemeinsam die traditionelle Noh-Theater-Szene. Masaaki Yuasas psyche
 delisches Geschichts-Fantasy-Spektakel verbindet mittelalterliche Legenden
  mit elektrischer Rockmusik und explosiver Animation. Die Performance-Sequ
 enzen eskalieren zu visuellen Rauschzuständen – ein wilder Trip durch F
 reundschaft\, Kunst und verbotene Geschichten\, der alle Konventionen spre
 ngt.\nMit dem Animittwoch bringt die Kultmoviegang jeden ersten Mittwoch i
 m Monat einen ausgewählten Anime zurück ins Kino.
LOCATION:Cinema Luna\, Lindenstrasse 10\, 8500 Frauenfeld
DTSTART;TZID=Europe/Zurich:20260902T200000
DTEND;TZID=Europe/Zurich:20260902T200000
ORGANIZER:Cinema Luna
END:VEVENT
END:VCALENDAR
