BEGIN:VCALENDAR
VERSION:2.0
PRODID:-//Sabre//Sabre VObject 4.5.8//EN
CALSCALE:GREGORIAN
BEGIN:VEVENT
UID:sabre-vobject-fc8d2fdc-ea95-4b98-8693-a028f95ba605
DTSTAMP:20260425T000507Z
SUMMARY:Sweete Melodye
DESCRIPTION:In zahlreichen englischen Handschriften des 12. und 13. Jahrhun
 derts finden sich einzelne Blätter mit Musikstücken\, die bisher nicht r
 echt beachtet wurden.\nEnsemble Il Cigno\\nGrace Newcombe - Sopran\, Harfe
 \\nUlrike vom Hagen - Viella\, Blockflöten\, Doppelflöte\\nCsaba-Zsolt D
 imén - Viella\\nPeter Achtzehnter - Viella\, Tenor\n \nÜbrigens: auf Wu
 nsch kann der Sonntag bei diesem Anlass auch kulinarisch genossen werden. 
 Mit dem Kombiticket erhalten die Gäste neben einem musikalischen Erlebnis
  auch ein zweigängiges Mittagesmenü im Restaurant des Steigenberger Inse
 lhotels.
LOCATION:Festsaal Steigenberger Inselhotel\, Auf der Insel 1\, 78462 Konsta
 nz
DTSTART;TZID=Europe/Zurich:20260426T143000
DTEND;TZID=Europe/Zurich:20260426T160000
ORGANIZER:Bodensee Philharmonie
END:VEVENT
END:VCALENDAR
