BEGIN:VCALENDAR
VERSION:2.0
PRODID:-//Sabre//Sabre VObject 4.5.8//EN
CALSCALE:GREGORIAN
BEGIN:VEVENT
UID:sabre-vobject-7dd7a63d-c9ee-4c62-9dba-cce41a543f5f
DTSTAMP:20260425T020810Z
SUMMARY:Kabarett mit BlöZinger - Das Ziel ist im Weg
DESCRIPTION:
LOCATION:Kultur- und Gemeindezentrum Kleinkunstsaal\, Gemeindeplatz 1\, 835
 5 Aadorf
DTSTART;TZID=Europe/Zurich:20260508T201500
DTEND;TZID=Europe/Zurich:20260508T221500
ORGANIZER:Kulturveranstalter GONG
END:VEVENT
END:VCALENDAR
