BEGIN:VCALENDAR
VERSION:2.0
PRODID:-//Sabre//Sabre VObject 4.5.8//EN
CALSCALE:GREGORIAN
BEGIN:VEVENT
UID:sabre-vobject-68c4bb34-1aab-4f0d-a7db-f9a69f58bfdb
DTSTAMP:20260421T010241Z
SUMMARY:Comedy Ensemble Glatti Cheibe - Buuchwehtour
DESCRIPTION:Für Lacher\, Stimmung und eine ordentliche Portion «Bauchweh
 » sorgen das beliebte Ostschweizer Comedy Duo Messer&Gabel\, das Comedy-C
 hamäleon Sepp Manser\, das Multitalent Nico Arn und der Senkrechtstarter 
 Sascha Schnellmann.\\n\n\\n\nWer es vielseitig\, geradeheraus und sauwitzi
 g mag\, der ist bei Glatti Cheibe - Buuchweh-Tour genau richtig. \\n\n\\n\
 nFrech\, hiesig und echt.
LOCATION:Kulturzentrum Presswerk\, Hamelstrasse 15\, 9320 Arbon
DTSTART;TZID=Europe/Zurich:20260429T200000
DTEND;TZID=Europe/Zurich:20260429T223000
ORGANIZER:Kulturzentrum Presswerk AG
END:VEVENT
END:VCALENDAR
