BEGIN:VCALENDAR
VERSION:2.0
PRODID:-//Sabre//Sabre VObject 4.5.8//EN
CALSCALE:GREGORIAN
BEGIN:VEVENT
UID:sabre-vobject-dd62cf28-8cb7-4c61-92ab-00155a3af2c9
DTSTAMP:20260425T015041Z
SUMMARY:Eröffnungskonzert
DESCRIPTION:Zu Beginn der Meisterkurswoche geben die Dozenten und Dozentinn
 en Benjamin Moser (Klavier)\, Liza Ferschstman (Violine) und Wen-Sinn Yang
  (Violoncello) ein festliches Konzert.
LOCATION:Evangelische Kirche Uttwil\, Kirchweg 1\, 8592 Uttwil
DTSTART;TZID=Europe/Zurich:20260823T170000
DTEND;TZID=Europe/Zurich:20260823T190000
ORGANIZER:Uttwiler Meisterkurse
END:VEVENT
END:VCALENDAR
