BEGIN:VCALENDAR
VERSION:2.0
PRODID:-//Sabre//Sabre VObject 4.5.8//EN
CALSCALE:GREGORIAN
BEGIN:VEVENT
UID:sabre-vobject-5e2588de-373d-4070-a3ea-37757c5cd9bf
DTSTAMP:20260420T230331Z
SUMMARY:Märchenhaft schön oder schön umständlich?
DESCRIPTION:Madame Bure\, die Amme des kaiserlichen Hofes auf Arenenberg ö
 ffnet ihre Kleidertruhe und erzählt vom Leben im Schloss. Die Kinder bewe
 gen sich verkleidet in historischen Kostümen durchs Schloss und erfahren 
 so\, wie man zur Zeit von Prinz Louis Napoléon gelebt hat.\nGegen Ende de
 r Veranstaltung besteht die Möglichkeit ein Erinnerungsfoto von den Prinz
 essinnen und Prinzen zu machen.
LOCATION:Napoleonmuseum Arenenberg\, Arenenberg 1\, 8268 Salenstein
DTSTART;TZID=Europe/Zurich:20260503T133000
DTEND;TZID=Europe/Zurich:20260503T150000
ORGANIZER:Napoleonmuseum Arenenberg
END:VEVENT
END:VCALENDAR
