BEGIN:VCALENDAR
VERSION:2.0
PRODID:-//Sabre//Sabre VObject 4.5.8//EN
CALSCALE:GREGORIAN
BEGIN:VEVENT
UID:sabre-vobject-4d650cd2-9aaf-4c30-8be9-faa9e32b4bd8
DTSTAMP:20260421T070623Z
SUMMARY:Ittinger Pfingstkonzerte 2026
DESCRIPTION:Mit dem Schweizer Klarinettisten Reto Bieri heissen wir einen d
 er facettenreichsten Musiker unserer Zeit als Künstlerischen Leiter willk
 ommen. Als Kammermusiker\, Improvisator\, Dirigent und Programmgestalter e
 ntzieht er sich konsequent dem Erwartbaren – so auch bei den Ittinger Pf
 ingstkonzerten.\nReto Bieri hat sich intensiv mit dem Festivalort auseinan
 dergesetzt und ein massgeschneidertes Programm komponiert – mit einem f
 ür eine Jubiläumsausgabe ungewöhnlichen\, aus der Tiefe des Ortes und s
 einer Geschichte inspirierten Thema: «auf-hören». Klangwelten von der G
 regorianik bis zur zeitgenössischen Musik erforschen die verschiedenen As
 pekte dieses vielschichtigen Begriffs. 
LOCATION:Ittinger Museum\, 8532 Warth
DTSTART;TZID=Europe/Zurich:20260523T190000
DTEND;TZID=Europe/Zurich:20260523T210000
ORGANIZER:Stiftung Kartause Ittingen
END:VEVENT
END:VCALENDAR
