BEGIN:VCALENDAR
VERSION:2.0
PRODID:-//Sabre//Sabre VObject 4.5.8//EN
CALSCALE:GREGORIAN
BEGIN:VEVENT
UID:sabre-vobject-b76be4db-5fe6-4ca0-b2f0-8846cb88ca07
DTSTAMP:20260425T034942Z
SUMMARY:Tag der offenen Tür
DESCRIPTION:• Degustation und Weinverkauf\\n• Mit musikalischer Unterha
 ltung durch Fredy Bünter\\n• Feines vom Grill mit Salat \\n• Süssmos
 tcreme und Linzertorte\\n\\nRahel und Daniel Jäger freuen sich auf den Be
 such.
LOCATION:Erlebnishof Seebachtal\, Haldenhof\, 8536 Hüttwilen
DTSTART;TZID=Europe/Zurich:20260501T110000
DTEND;TZID=Europe/Zurich:20260501T170000
ORGANIZER:Rebgut Jäger
END:VEVENT
END:VCALENDAR
