BEGIN:VCALENDAR
VERSION:2.0
PRODID:-//Sabre//Sabre VObject 4.5.8//EN
CALSCALE:GREGORIAN
BEGIN:VEVENT
UID:sabre-vobject-cf6f6616-b3be-4559-8c3b-8c03ca59055b
DTSTAMP:20260425T015042Z
SUMMARY:Freie Besichtigung
DESCRIPTION:
LOCATION:Rock-& Pop-Museum\, Sornpark 9\, 9246 Niederbüren
DTSTART;TZID=Europe/Zurich:20260606T090000
DTEND;TZID=Europe/Zurich:20260606T120000
ORGANIZER:Rock- & Pop-Museum
END:VEVENT
END:VCALENDAR
