BEGIN:VCALENDAR
VERSION:2.0
PRODID:-//Sabre//Sabre VObject 4.5.8//EN
CALSCALE:GREGORIAN
BEGIN:VEVENT
UID:sabre-vobject-3bffa71c-2877-4068-aef9-9f8216ca2be6
DTSTAMP:20260425T015042Z
SUMMARY:Freie Besichtigung
DESCRIPTION:
LOCATION:Rock-& Pop-Museum\, Sornpark 9\, 9246 Niederbüren
DTSTART;TZID=Europe/Zurich:20260905T090000
DTEND;TZID=Europe/Zurich:20260905T120000
ORGANIZER:Rock- & Pop-Museum
END:VEVENT
END:VCALENDAR
