BEGIN:VCALENDAR
VERSION:2.0
PRODID:-//Sabre//Sabre VObject 4.5.8//EN
CALSCALE:GREGORIAN
BEGIN:VEVENT
UID:sabre-vobject-c649e2ff-ab60-42b4-ac81-c9c374af1ffe
DTSTAMP:20260425T015041Z
SUMMARY:Freie Besichtigung
DESCRIPTION:
LOCATION:Rock-& Pop-Museum\, Sornpark 9\, 9246 Niederbüren
DTSTART;TZID=Europe/Zurich:20261205T090000
DTEND;TZID=Europe/Zurich:20261205T120000
ORGANIZER:Rock- & Pop-Museum
END:VEVENT
END:VCALENDAR
