BEGIN:VCALENDAR
VERSION:2.0
PRODID:-//Sabre//Sabre VObject 4.5.8//EN
CALSCALE:GREGORIAN
BEGIN:VEVENT
UID:sabre-vobject-1175d497-c125-497a-991a-3bdcc0525f76
DTSTAMP:20260425T002226Z
SUMMARY:Natur & Farben – die bunte Welt entdecken!
DESCRIPTION:Die Teilnehmenden malen mit Blumen und Matsch! Blüten rein\, P
 insel raus – Naturfarben für kleine &amp\; grosse Künstler:innen. Im b
 unten Schulgarten der Montessori Schule „Bildung mit Weitblick“ für F
 amilien mit Kindern ab 6 Jahren.\\n\\nIn der Natur verstecken sich wunderv
 olle Farben – in Blättern\, Blüten\, Beeren und Erde. Gemeinsam entdec
 ken die Teilnehmenden sie und verwandeln Pflanzen in leuchtende Farben und
  Tinte. Dabei wird gemischt\, gerührt\, gemalt und gestaunt.\\n\\nJedes s
 elbstgemachte Pigment erzählt seine eigene kleine Geschichte: von sonnige
 n Blumen\, duftenden Kräutern oder geheimnisvoller Erde. Die Teilnehmende
 n spüren\, wie viel Kraft und Magie in der Natur steckt\, während sie mi
 t ihren Händen kreativ werden.\\n\\nAusprobieren\, Experimentieren und La
 chen stehen im Mittelpunkt. Alle dürfen mitmachen\, ihre Ideen einbringen
  und Neues entdecken. Zusammen wird gemalt\, getauscht und gestaunt – so
  wird der Tag lebendig und bunt.\\n\\nWie kleine Farbenzauber:innen lassen
  die Teilnehmenden die Natur auf dem Papier tanzen und erschaffen eigenen\
 , fröhlichen Kunstwerke.
LOCATION:Montessori Schule "Bildung mit Weitblick"\, Bernrainstr. 69\, 8280
  Kreuzlingen
DTSTART;TZID=Europe/Zurich:20260830T133000
DTEND;TZID=Europe/Zurich:20260830T160000
ORGANIZER:Ferox Natura Artis - Wildes Naturhandwerk
END:VEVENT
END:VCALENDAR
