BEGIN:VCALENDAR
VERSION:2.0
PRODID:-//Sabre//Sabre VObject 4.5.8//EN
CALSCALE:GREGORIAN
BEGIN:VEVENT
UID:sabre-vobject-b2de5364-6953-4c97-a0a7-d08cbe235d12
DTSTAMP:20260423T102019Z
SUMMARY:Öffentliche Führung
DESCRIPTION:
LOCATION:Typorama\, Fabrikstrasse 30a\, 9220 Bischofszell
DTSTART;TZID=Europe/Zurich:20260607T140000
DTEND;TZID=Europe/Zurich:20260607T153000
ORGANIZER:Typorama – Museum für Satz und Druck
END:VEVENT
END:VCALENDAR
