BEGIN:VCALENDAR
VERSION:2.0
PRODID:-//Sabre//Sabre VObject 4.5.8//EN
CALSCALE:GREGORIAN
BEGIN:VEVENT
UID:sabre-vobject-e49274fd-f7ab-47ba-837c-c5f4610ecd7d
DTSTAMP:20260423T102026Z
SUMMARY:Öffentliche Führung
DESCRIPTION:
LOCATION:Typorama\, Fabrikstrasse 30a\, 9220 Bischofszell
DTSTART;TZID=Europe/Zurich:20260802T140000
DTEND;TZID=Europe/Zurich:20260802T153000
ORGANIZER:Typorama – Museum für Satz und Druck
END:VEVENT
END:VCALENDAR
