BEGIN:VCALENDAR
VERSION:2.0
PRODID:-//Sabre//Sabre VObject 4.5.8//EN
CALSCALE:GREGORIAN
BEGIN:VEVENT
UID:sabre-vobject-91dac914-0ffd-4a15-a627-a534873396d3
DTSTAMP:20260423T102026Z
SUMMARY:Öffentliche Führung
DESCRIPTION:
LOCATION:Typorama\, Fabrikstrasse 30a\, 9220 Bischofszell
DTSTART;TZID=Europe/Zurich:20260906T140000
DTEND;TZID=Europe/Zurich:20260906T153000
ORGANIZER:Typorama – Museum für Satz und Druck
END:VEVENT
END:VCALENDAR
