BEGIN:VCALENDAR
VERSION:2.0
PRODID:-//Sabre//Sabre VObject 4.5.8//EN
CALSCALE:GREGORIAN
BEGIN:VEVENT
UID:sabre-vobject-1f4e3de1-a84d-416e-b0bf-192b64b43cc7
DTSTAMP:20260423T102139Z
SUMMARY:Öffentliche Führung
DESCRIPTION:
LOCATION:Typorama\, Fabrikstrasse 30a\, 9220 Bischofszell
DTSTART;TZID=Europe/Zurich:20261206T140000
DTEND;TZID=Europe/Zurich:20261206T153000
ORGANIZER:Typorama – Museum für Satz und Druck
END:VEVENT
END:VCALENDAR
