BEGIN:VCALENDAR
VERSION:2.0
PRODID:-//Sabre//Sabre VObject 4.5.8//EN
CALSCALE:GREGORIAN
BEGIN:VEVENT
UID:sabre-vobject-31efd293-6a21-4034-92fd-9a9fa36b0b8e
DTSTAMP:20260423T102027Z
SUMMARY:Öffentliche Führung
DESCRIPTION:
LOCATION:Typorama\, Fabrikstrasse 30a\, 9220 Bischofszell
DTSTART;TZID=Europe/Zurich:20270103T140000
DTEND;TZID=Europe/Zurich:20270103T153000
ORGANIZER:Typorama – Museum für Satz und Druck
END:VEVENT
END:VCALENDAR
