BEGIN:VCALENDAR
VERSION:2.0
PRODID:-//Sabre//Sabre VObject 4.5.8//EN
CALSCALE:GREGORIAN
BEGIN:VEVENT
UID:sabre-vobject-50347d09-d867-4352-9188-ad157c00c2d2
DTSTAMP:20260425T021603Z
SUMMARY:Festwochenende 125 Jahre Musikgesellschaft Neukirch-Egnach
DESCRIPTION:
LOCATION:Mehrzweckhalle Rietzelg\, Rietzelgweg 3\, 9315 Neukirch (Egnach)
DTSTART;TZID=Europe/Zurich:20260926T160000
DTEND;TZID=Europe/Zurich:20260926T160000
ORGANIZER:Musikgesellschaft Neukirch-Egnach
END:VEVENT
END:VCALENDAR
