BEGIN:VCALENDAR
VERSION:2.0
PRODID:-//Sabre//Sabre VObject 4.5.8//EN
CALSCALE:GREGORIAN
BEGIN:VEVENT
UID:sabre-vobject-8f049346-a99e-4250-ab30-e59e5f1a21cd
DTSTAMP:20260425T000503Z
SUMMARY:Platzkonzert
DESCRIPTION:
LOCATION:Schulhausplatz\, Hegi\, 9315 Winden
DTSTART;TZID=Europe/Zurich:20260605T193000
DTEND;TZID=Europe/Zurich:20260605T193000
ORGANIZER:Musikgesellschaft Neukirch-Egnach
END:VEVENT
END:VCALENDAR
