BEGIN:VCALENDAR
VERSION:2.0
PRODID:-//Sabre//Sabre VObject 4.5.8//EN
CALSCALE:GREGORIAN
BEGIN:VEVENT
UID:sabre-vobject-9a79073a-cd1d-42c6-9871-8c39547c11c2
DTSTAMP:20260421T062605Z
SUMMARY:Mammuts an der Thur?
DESCRIPTION:Mammuts\, Bären\, Löwen und Leoparden in der Ostschweiz? Unse
 re von Gletschern geformte Region war während der Eiszeit keine durchgehe
 nd kalte Eiswüste. Um den Alpenbogen bot sich ein buntes Bild an Lebensr
 äumen\, das zum Schluss der letzten Eiszeit mit dem Verschwinden der Mega
 fauna ihr Ende fand. Geänderte klimatische Bedingungen führten zum Ausst
 erben vieler Arten\, deren Vorkommen heute unvorstellbar wirkt.\nVor und n
 ach dem Vortrag ist die Sonderausstellung "Eiszeit" für Vortragsbesuchend
 e geöffnet.
LOCATION:Seemuseum\, Seeweg 3\, 8280 Kreuzlingen
DTSTART;TZID=Europe/Zurich:20260423T190000
DTEND;TZID=Europe/Zurich:20260423T210000
ORGANIZER:Seemuseum
END:VEVENT
END:VCALENDAR
