BEGIN:VCALENDAR
VERSION:2.0
PRODID:-//Sabre//Sabre VObject 4.5.8//EN
CALSCALE:GREGORIAN
BEGIN:VEVENT
UID:sabre-vobject-6aabf217-f2d4-4369-a43f-cdfd308e38eb
DTSTAMP:20260425T030500Z
SUMMARY:Gewerbe Dörfli 2026
DESCRIPTION:Organisiert vom Gewerbe Kreuzlingen wird der Boulevard an diese
 m ganz besonderen Sonntag im Dezember belebt und ein Ort der Begegnung. \\
 n\\nAuch der beliebte und traditionelle Chlauseinzug findet an diesem Datu
 m statt. \\n\\nGewerbe Kreuzlingen wird zudem für diesen Tag die Genehmig
 ung für einen Sonntagsverkauf einholen.
LOCATION:8280 Kreuzlingen
DTSTART;TZID=Europe/Zurich:20261206T130000
DTEND;TZID=Europe/Zurich:20261206T180000
ORGANIZER:Gewerbe Kreuzlingen
END:VEVENT
END:VCALENDAR
