BEGIN:VCALENDAR
VERSION:2.0
PRODID:-//Sabre//Sabre VObject 4.5.8//EN
CALSCALE:GREGORIAN
BEGIN:VEVENT
UID:sabre-vobject-577ca4a9-0eec-4a12-9eb0-6920f95e1ea0
DTSTAMP:20260421T051256Z
SUMMARY:Русское кафе
DESCRIPTION:Die Sprachencafés sind lockere Runden\, um die jeweilige Sprac
 he zu sprechen oder zu hören. Es wird kein Niveau vorausgesetzt und es is
 t keine Anmeldung notwendig.\\nWeitere Informationen und Kontaktpersonen: 
 www.vbdk.ch\\n\\nDauer: 1.5 – 2 Stunden\\nEintritt frei
LOCATION:Kantonsbibliothek Thurgau\, Promenadenstrasse 12\, 8500 Frauenfeld
DTSTART;TZID=Europe/Zurich:20260421T193000
DTEND;TZID=Europe/Zurich:20260421T210000
ORGANIZER:Verein Bibliothek der Kulturen
END:VEVENT
END:VCALENDAR
