BEGIN:VCALENDAR
VERSION:2.0
PRODID:-//Sabre//Sabre VObject 4.5.8//EN
CALSCALE:GREGORIAN
BEGIN:VEVENT
UID:sabre-vobject-b34175aa-8341-4f39-83cc-f40f5891d66e
DTSTAMP:20260423T084205Z
SUMMARY:Die Ittinger Güterkarte von 1745 – ein herausragendes Werk der K
 artografie
DESCRIPTION:Der Ittinger Kartäuser Josephus Wech (1702–1761) hat ein ein
 drückliches schriftliches Werk hinterlassen. Er war früh in der Verwaltu
 ng tätig und hatte schliesslich die Funktion des Procurators inne\, das h
 eisst\, er war der für die Wirtschaft verantwortliche Mönch. Neben seine
 n Verwaltungshandbüchern ragt ein Werk besonders heraus: die auf das Jahr
  1745 datierte Güterkarte mit den Massen von ca. 3\,2 × 5 Meter.\\n\n\\n
 \nDieses monumentale Meisterwerk der Kartografie wird in der Ausstellung e
 rstmals öffentlich gezeigt.
LOCATION:Kartause Ittingen\, 8532 Warth
DTSTART;TZID=Europe/Zurich:20261006T140000
DTEND;TZID=Europe/Zurich:20261006T170000
ORGANIZER:Ittinger Museum
END:VEVENT
END:VCALENDAR
