BEGIN:VCALENDAR
VERSION:2.0
PRODID:-//Sabre//Sabre VObject 4.5.8//EN
CALSCALE:GREGORIAN
BEGIN:VEVENT
UID:sabre-vobject-e47ca7a1-b07f-46ac-9322-bc3a824c632b
DTSTAMP:20260419T164251Z
SUMMARY:Starbugs Comedy - Showtime
DESCRIPTION:Und sie nehmen ihr Publikum von der ersten Sekunde an mit auf e
 ine Reise durch die bunte Welt der Showszene. Noch nie war Comedy so leben
 dig und dynamisch. Auch diesmal war Nadja Sieger alias Nadeschkin wieder a
 ls Regisseurin mit dabei.\\n\\n"Showtime" ist Comedy ganz ohne Worte. Lang
 e Reden überlassen die drei Ausnahmekünstlern den Andern. Mit vollem Kö
 rpereinsatz und umwerfender Mimik produzieren Starbugs Comedy wahres Feuer
 werk der Lacher.Fabian Berger\, Wassilis Reigel und Martin Burtscher sind 
 Weltmeister der nonverbalen Comedy und tanzen und spielen alles Mögliche 
 und Unmögliche. Sie überraschen das Publikum immer wieder mit unerwartet
 en Wendungen und Verwicklungen. 
LOCATION:Kongresszentrum Thurgauerhof\, Felsenstrasse 6\, 8570 Weinfelden
DTSTART;TZID=Europe/Zurich:20261112T200000
DTEND;TZID=Europe/Zurich:20261112T200000
ORGANIZER:Ticketcorner
END:VEVENT
END:VCALENDAR
