BEGIN:VCALENDAR
VERSION:2.0
PRODID:-//Sabre//Sabre VObject 4.5.8//EN
CALSCALE:GREGORIAN
BEGIN:VEVENT
UID:sabre-vobject-a63dc09e-4a65-476c-a3c4-829de510634a
DTSTAMP:20260421T073133Z
SUMMARY:Trickfilm & Co.
DESCRIPTION:Eintauchen in die bunte Welt der Animation. Mit der App «Procr
 eate» kann man Bilder so zeichnen\, dass sie sich bewegen – ob hüpfend
 e Bälle\, zwinkernde Katzen oder coole Tanz-Moves. Die Teilnehmenden lern
 en\, wie man eigene Charaktere animiert\, kleine Comics zum Leben erweckt 
 und wie man mit einfachen Tricks grosse Effekte erzielt: Wie bewegt sich e
 in Arm? Wie läuft eine Figur? Wie entsteht ein Loop?
LOCATION:Talenticum\, Bahnhofstrasse 40a\, 8590 Romanshorn
DTSTART;TZID=Europe/Zurich:20260526T160000
DTEND;TZID=Europe/Zurich:20260526T180000
ORGANIZER:Talenticum
END:VEVENT
END:VCALENDAR
