BEGIN:VCALENDAR
VERSION:2.0
PRODID:-//Sabre//Sabre VObject 4.5.8//EN
CALSCALE:GREGORIAN
BEGIN:VEVENT
UID:sabre-vobject-8a057883-6c73-429d-8a92-5b1793f12922
DTSTAMP:20260421T073229Z
SUMMARY:Trickfilm & Co.
DESCRIPTION:Eintauchen in die bunte Welt der Animation. Mit der App «Procr
 eate» kann man Bilder so zeichnen\, dass sie sich bewegen – ob hüpfend
 e Bälle\, zwinkernde Katzen oder coole Tanz-Moves. Die Teilnehmenden lern
 en\, wie man eigene Charaktere animiert\, kleine Comics zum Leben erweckt 
 und wie man mit einfachen Tricks grosse Effekte erzielt: Wie bewegt sich e
 in Arm? Wie läuft eine Figur? Wie entsteht ein Loop?
LOCATION:Talenticum\, Bahnhofstrasse 40a\, 8590 Romanshorn
DTSTART;TZID=Europe/Zurich:20260616T160000
DTEND;TZID=Europe/Zurich:20260616T180000
ORGANIZER:Talenticum
END:VEVENT
END:VCALENDAR
