BEGIN:VCALENDAR
VERSION:2.0
PRODID:-//Sabre//Sabre VObject 4.5.8//EN
CALSCALE:GREGORIAN
BEGIN:VEVENT
UID:sabre-vobject-ee2a52db-5b0e-44ed-91d4-72192de6b951
DTSTAMP:20260421T081816Z
SUMMARY:Produziere deinen eigenen Podcast
DESCRIPTION:Hier entstehen eigene Mini-Geschichten\, Interviews mit anderen
  Jugendlichen und / oder Gästen\, unterlegt mit Soundeffekten aus Alltags
 gegenständen. Daraus entsteht der ganz persönliche Podcast. Zum Schluss
  wird das Ganze veröffentlicht.
LOCATION:Talenticum\, Bahnhofstrasse 40a\, 8590 Romanshorn
DTSTART;TZID=Europe/Zurich:20260506T181500
DTEND;TZID=Europe/Zurich:20260506T201500
ORGANIZER:Talenticum
END:VEVENT
END:VCALENDAR
