BEGIN:VCALENDAR
VERSION:2.0
PRODID:-//Sabre//Sabre VObject 4.5.8//EN
CALSCALE:GREGORIAN
BEGIN:VEVENT
UID:sabre-vobject-9987a761-422e-495c-847f-e730790b5450
DTSTAMP:20260421T082058Z
SUMMARY:Deine Stimme\, deine Geschichte\, dein Hörspiel
DESCRIPTION:Hörbuch-Magierin oder Hörbuch-Zauberer werden: Aus spannenden
 \, lustigen oder geheimnisvollen Texten vorlesen und diese mit Geräuschen
 \, Stimmen und Stimmungen gestalten. Vielleicht erfindet sich sogar ein ga
 nz neues Märchen oder ein Abenteuer. Ob flüsternd\, quatschend oder brü
 llend wie ein Drache – hier darf alles ausprobiert werden.
LOCATION:Talenticum\, Bahnhofstrasse 40a\, 8590 Romanshorn
DTSTART;TZID=Europe/Zurich:20260506T160000
DTEND;TZID=Europe/Zurich:20260506T180000
ORGANIZER:Talenticum
END:VEVENT
END:VCALENDAR
