BEGIN:VCALENDAR
VERSION:2.0
PRODID:-//Sabre//Sabre VObject 4.5.8//EN
CALSCALE:GREGORIAN
BEGIN:VEVENT
UID:sabre-vobject-65a57dac-4ef3-47ac-8a8e-47d5fe0bc12a
DTSTAMP:20260421T082058Z
SUMMARY:Zeichne deinen eigenen Comic
DESCRIPTION:Hier werden echte Comic-Künstler:innen geboren. Die Teilnehmen
 den probieren aus\, was ihnen am meisten Spass macht: Coole Helden entwerf
 en\, witzige Tiere zeichnen\, eigene Superkräfte erfinden oder verrückte
  Abenteuer erzählen. Gemeinsam wird geübt\, wie man mit Gesichtsausdrüc
 ken Gefühle zeigt\, wie man Sprechblasen setzt und wie Bilder eine Geschi
 chte erzählen. Dabei wird der ganz eigene Stil entwickelt und der Fantasi
 e freien Lauf gelassen. Vielleicht entsteht sogar ein ganzes Comic-Heft.
LOCATION:Talenticum\, Bahnhofstrasse 40a\, 8590 Romanshorn
DTSTART;TZID=Europe/Zurich:20260430T160000
DTEND;TZID=Europe/Zurich:20260430T180000
ORGANIZER:Talenticum
END:VEVENT
END:VCALENDAR
