BEGIN:VCALENDAR
VERSION:2.0
PRODID:-//Sabre//Sabre VObject 4.5.8//EN
CALSCALE:GREGORIAN
BEGIN:VEVENT
UID:sabre-vobject-210d1763-aa2e-4a95-9a1a-b65ce58bb0c1
DTSTAMP:20260421T044005Z
SUMMARY:Zehner
DESCRIPTION:Regie Sergej Gößner Bühne &amp\; Kostüme Lukas Fries Musik 
 Valentin Schröteler\\nDramaturgie Romana Lautner Theaterpädagogik Tanja 
 Jäckel\, Denny Renco\\nMit Alicia Bischoff\, Julius Engelbach\, Kristina 
 Lotta Kahlert\, Jonas Pätzold\\nTeam Zehner Johanna Allgaier\, Hannah Ben
 z-Ogman\, Lara Farhat\, Svea Fer\, Lotta Gläser\, Horesh Harel\, Tim Heie
 r\, Levin Mora\, Jette Nieße\, Julia Pütz\, Jule Simmendinger\, Mia Stec
 ker\, Paula Vietor\, Magdalena Wolf\, Maja Wolter\\nTheaterpädagogische B
 egleitung Team Zehner Tanja Jäckel\nSie haben ihn vor sich\, den bedeuten
 dsten Sommer ihres Lebens! AC\, Jansi\, Dario und Naila haben einen Plan: 
 Sie wollen vom Zehn-Meter-Sprungturm springen. Aber das ist nicht nur irge
 ndein Ausflug ins Strandbad\, nein. „Der Zehner ist eine Schwelle. Zwisc
 hen uns und der Zukunft. Er ist ein Gefühl.“\nDoch an dem Tag\, an dem 
 die vier ihren Plan umsetzen wollen\, hat der Zehner keine Leiter mehr. De
 r Grund dafür sind die Haushaltskürzungen: Kein Geld\, keine Aufsichtspe
 rson\, kein Zehner. Die Jugendlichen sind fassungslos. Doch während Naila
 \, Dario und Jansi einen Umgang mit der neuen Situation finden\, bleibt AC
  wütend. Sie kann und will das nicht einfach so akzeptieren. Schließlich
  geht es nicht nur um den Zehner\, es geht um viel mehr. Da muss man doch 
 irgendwas machen!\nWas heißt das eigentlich\, politisch sein? Was bedeute
 t es für Jugendliche\, in unserer Demokratie zu leben? Bei welchen Themen
  dürfen sie mitreden\, mitentscheiden? Wie oft werden sie außen vor gela
 ssen? Wie kann Protest heute aussehen?\nFayer Koch hat ein besonderes Thea
 terstück für das Theater Konstanz geschrieben. Eine Gruppe von 15 jungen
  Menschen aus Konstanz im Alter von 12-18 Jahren\, das „Team Zehner“\,
  hat Fayer dabei unterstützt. Sie haben viel diskutiert\, jede Menge Inpu
 t gegeben\, Kritik geübt\, konkrete Änderungen vorgeschlagen\, an Formul
 ierungen gefeilt\, die Charaktere geschärft\, Richtungswechsel angegeben.
  „Zehner“ ist also mehr als ein Theaterstück\, es ist ein Projekt der
  Teilhabe.
LOCATION:Stadttheater Konstanz\, Konzilstrasse 11\, 78462 Konstanz
DTSTART;TZID=Europe/Zurich:20260430T193000
DTEND;TZID=Europe/Zurich:20260430T193000
ORGANIZER:Theater Konstanz
END:VEVENT
END:VCALENDAR
