BEGIN:VCALENDAR
VERSION:2.0
PRODID:-//Sabre//Sabre VObject 4.5.8//EN
CALSCALE:GREGORIAN
BEGIN:VEVENT
UID:sabre-vobject-be8aeee6-8f62-4c39-a9e3-f0fafb2698c9
DTSTAMP:20260421T032844Z
SUMMARY:Eure Partnerschaft. Deine Herzenssache.
DESCRIPTION:Hans Jörg Forster aus Arbon ist verheiratet und Vater von 4 Ki
 ndern. In seiner jahrelangen Tätigkeit als Paartherapeut und der Erfahrun
 g aus dem eigenen Ehealltag berät er Paare\, denen die Freude am Partner 
 und am gemeinsamen Weg abhandengekommen ist. In seinem neu erschienenen Bu
 ch «Eure Partnerschaft. Deine Herzenssache.» beschreibt er den «Herzkre
 islauf der Liebe» und zeigt auf\, wie jeder selbst Verantwortung überneh
 men kann\, damit die Liebe wieder zunimmt.
LOCATION:Gesundheitszentrum Sokrates\, Im Park 3\, 8594 Güttingen
DTSTART;TZID=Europe/Zurich:20260422T193000
DTEND;TZID=Europe/Zurich:20260422T193000
ORGANIZER:Gesundheitszentrum Sokrates AG
END:VEVENT
END:VCALENDAR
